BEGIN:VCALENDAR
VERSION:2.0
PRODID:-//Hero Athletics Cheer &amp; Dance - ECPv6.15.18//NONSGML v1.0//EN
CALSCALE:GREGORIAN
METHOD:PUBLISH
X-ORIGINAL-URL:https://hero-athletics.com
X-WR-CALDESC:Events for Hero Athletics Cheer &amp; Dance
REFRESH-INTERVAL;VALUE=DURATION:PT1H
X-Robots-Tag:noindex
X-PUBLISHED-TTL:PT1H
BEGIN:VTIMEZONE
TZID:UTC
BEGIN:STANDARD
TZOFFSETFROM:+0000
TZOFFSETTO:+0000
TZNAME:UTC
DTSTART:20250101T000000
END:STANDARD
END:VTIMEZONE
BEGIN:VEVENT
DTSTART;TZID=UTC:20260727T090000
DTEND;TZID=UTC:20260730T153000
DTSTAMP:20260424T041731
CREATED:20260212T230906Z
LAST-MODIFIED:20260212T230906Z
UID:10000037-1785142800-1785425400@hero-athletics.com
SUMMARY:July Cheer Camp
DESCRIPTION:Dates: July 27th – July 30th \nTime: 9:00 am – 3:30 pm \nCost: $475 (Early Bird: $395 if booked by April 30th) \nKick off the peak of summer with four days of high-flying fun! This camp is perfect for athletes who want to dive into the world of cheerleading. From learning foundational stunts and snappy motions to mastering upbeat choreography\, campers will work together to create a full routine. When they aren’t on the mats\, they’ll be enjoying themed crafts and team challenges that turn teammates into lifelong friends. \nRegister Below! \n\n\n                \n                        \n							"*" indicates required fields \n                         \n \n                        Parent/Guardian Name*\n                            \n                            \n                                                    \n                                                    First\n                                                \n                            \n                            \n                                                    \n                                                    Last\n                                                \n                            \n                        Phone*Email*\n                            \n                        Athlete's Name\n                            \n                            \n                                                    \n                                                    First\n                                                \n                            \n                            \n                                                    \n                                                    Last\n                                                \n                            \n                        Athlete's Date Of Birth*\n                            \n                            MM slash DD slash YYYY\n                        \n                        Athlete's T-Shirt Size*Youth SmallYouth MediumYouth LargeAdult SmallAdult MediumAdult LargeAdult XLRegistrationProduct NameSelect the Camp(s) You Want To Attend*\n								\n								July Cheer Camp\n							\n								\n								August Cheer Camp\n							Select Your August Camp Session Time*\n			\n					\n					Full Day (9:00 a.m. - 3:30 p.m.)\n			\n			\n					\n					Half Day (9:00 a.m. - 12:00 p.m.\n			PaymentTotal\n							\n						Credit Card*\n					\n						Cardholder Name\n					\n					\n						Card Details
URL:https://hero-athletics.com/event/july-cheer-camp/
CATEGORIES:Summer Camps
ATTACH;FMTTYPE=image/png:https://hero-athletics.com/wp-content/uploads/2026/02/Hero-Athletics-Cheer-Dance-2.png
END:VEVENT
END:VCALENDAR